BEGIN:VCALENDAR
VERSION:2.0
PRODID:icalendar-ruby
CALSCALE:GREGORIAN
METHOD:PUBLISH
BEGIN:VEVENT
DTSTAMP:20260419T123938Z
UID:18-391944@fultonalliance.org
DTSTART:20260503T020000Z
DTEND:20260503T160000Z
CLASS:PUBLIC
CREATED:20260414T215447
DESCRIPTION:Women and young ladies are warmly invited to join us for a spec
 ial morning centered on becoming a Healthy Woman of God.\nOur speaker\, Pa
 tty Moses\, will share an encouraging message designed to inspire and upli
 ft. Together\, we’ll spend time encouraging one another\, building meani
 ngful connections\, and reflecting on what it means to grow in strength—
 spiritually\, physically\, and mentally.\n\n 
LAST-MODIFIED:20260414T215447
LOCATION:Fulton Alliance Church
SUMMARY:The Gathering for Women and Young Ladies
URL;VALUE=URI:https://fultonalliance.org/events/the-gathering-for-women-and
 -young-ladies/2026-05-02
ATTACH;FILENAME=Fulton-Alliance-Ads-53.png;FMTTYPE=image/png:https://dq5pwp
 g1q8ru0.cloudfront.net/2026/04/15/01/48/20/4e0a2cf6-14dd-49a5-87cc-0261963
 e25d6/Fulton-Alliance-Ads-53.png
END:VEVENT
END:VCALENDAR
