BEGIN:VCALENDAR
VERSION:2.0
PRODID:icalendar-ruby
CALSCALE:GREGORIAN
METHOD:PUBLISH
BEGIN:VEVENT
DTSTAMP:20260420T203914Z
UID:20-401516@fultonalliance.org
DTSTART:20260519T140000Z
DTEND:20260519T150000Z
CLASS:PUBLIC
CREATED:20260420T161230
DESCRIPTION:Prayer TIme
LAST-MODIFIED:20260420T161230
LOCATION:Fulton Alliance Church
SUMMARY:Prayer TIme
URL;VALUE=URI:https://fultonalliance.org/events/prayer-time/2026-05-19
END:VEVENT
END:VCALENDAR
