BEGIN:VCALENDAR
VERSION:2.0
PRODID:icalendar-ruby
CALSCALE:GREGORIAN
METHOD:PUBLISH
BEGIN:VEVENT
DTSTAMP:20260422T105439Z
UID:20-403914@fultonalliance.org
DTSTART:20261103T150000Z
DTEND:20261103T160000Z
CLASS:PUBLIC
CREATED:20260421T213815
DESCRIPTION:Prayer TIme
LAST-MODIFIED:20260421T213815
LOCATION:Fulton Alliance Church
SUMMARY:Prayer Time
URL;VALUE=URI:https://fultonalliance.org/events/prayer-time--20/2026-11-03
END:VEVENT
END:VCALENDAR
