BEGIN:VCALENDAR
VERSION:2.0
PRODID:icalendar-ruby
CALSCALE:GREGORIAN
METHOD:PUBLISH
BEGIN:VEVENT
DTSTAMP:20260422T002248Z
UID:20-403617@fultonalliance.org
DTSTART:20260915T140000Z
DTEND:20260915T150000Z
CLASS:PUBLIC
CREATED:20260421T185957
DESCRIPTION:Prayer TIme
LAST-MODIFIED:20260421T185957
LOCATION:Fulton Alliance Church
SUMMARY:Prayer Time
URL;VALUE=URI:https://fultonalliance.org/events/prayer-time--20/2026-09-15
END:VEVENT
END:VCALENDAR
