BEGIN:VCALENDAR
VERSION:2.0
PRODID:icalendar-ruby
CALSCALE:GREGORIAN
METHOD:PUBLISH
BEGIN:VEVENT
DTSTAMP:20260421T161028Z
UID:20-402742@fultonalliance.org
DTSTART:20260811T140000Z
DTEND:20260811T150000Z
CLASS:PUBLIC
CREATED:20260421T110521
DESCRIPTION:Prayer TIme
LAST-MODIFIED:20260421T110521
LOCATION:Fulton Alliance Church
SUMMARY:Prayer Time
URL;VALUE=URI:https://fultonalliance.org/events/prayer-time--20/2026-08-11
END:VEVENT
END:VCALENDAR
