BEGIN:VCALENDAR
VERSION:2.0
PRODID:icalendar-ruby
CALSCALE:GREGORIAN
METHOD:PUBLISH
BEGIN:VEVENT
DTSTAMP:20260421T131024Z
UID:20-402451@fultonalliance.org
DTSTART:20260728T140000Z
DTEND:20260728T150000Z
CLASS:PUBLIC
CREATED:20260421T082947
DESCRIPTION:Prayer TIme
LAST-MODIFIED:20260421T082947
LOCATION:Fulton Alliance Church
SUMMARY:Prayer Time
URL;VALUE=URI:https://fultonalliance.org/events/prayer-time--20/2026-07-28
END:VEVENT
END:VCALENDAR
