BEGIN:VCALENDAR
VERSION:2.0
PRODID:icalendar-ruby
CALSCALE:GREGORIAN
METHOD:PUBLISH
BEGIN:VEVENT
DTSTAMP:20260421T051122Z
UID:20-402156@fultonalliance.org
DTSTART:20260623T140000Z
DTEND:20260623T150000Z
CLASS:PUBLIC
CREATED:20260420T213151
DESCRIPTION:Prayer TIme
LAST-MODIFIED:20260420T213151
LOCATION:Fulton Alliance Church
SUMMARY:Prayer Time
URL;VALUE=URI:https://fultonalliance.org/events/prayer-time--20/2026-06-23
END:VEVENT
END:VCALENDAR
